Package: decoupleR Version: 2.12.0 Command: /Library/Frameworks/R.framework/Resources/bin/R CMD build --keep-empty-dirs --no-resave-data decoupleR StartedAt: 2025-03-31 22:04:48 -0400 (Mon, 31 Mar 2025) EndedAt: 2025-03-31 22:06:50 -0400 (Mon, 31 Mar 2025) EllapsedTime: 121.7 seconds RetCode: 0 Status: OK PackageFile: decoupleR_2.12.0.tar.gz PackageFileSize: 5.016 MiB