Package: deconvR Version: 1.12.0 Command: /home/biocbuild/R/R/bin/R CMD check --install=check:deconvR.install-out.txt --library=/home/biocbuild/R/R/site-library --no-vignettes --timings deconvR_1.12.0.tar.gz StartedAt: 2025-04-01 05:41:14 -0000 (Tue, 01 Apr 2025) EndedAt: 2025-04-01 05:41:27 -0000 (Tue, 01 Apr 2025) EllapsedTime: 13.0 seconds RetCode: 1 Status: ERROR CheckDir: deconvR.Rcheck Warnings: NA