Package: deconvR Version: 1.12.0 Command: chmod a+r deconvR -R && F:\biocbuild\bbs-3.20-bioc\R\bin\R.exe CMD build --keep-empty-dirs --no-resave-data deconvR StartedAt: 2025-03-31 18:22:11 -0400 (Mon, 31 Mar 2025) EndedAt: 2025-03-31 18:24:43 -0400 (Mon, 31 Mar 2025) EllapsedTime: 152.1 seconds RetCode: 0 Status: OK PackageFile: deconvR_1.12.0.tar.gz PackageFileSize: 3.789 MiB