Package: deconvR Version: 1.12.0 Command: /Library/Frameworks/R.framework/Resources/bin/R CMD INSTALL deconvR StartedAt: 2025-03-31 17:59:22 -0400 (Mon, 31 Mar 2025) EndedAt: 2025-03-31 18:00:19 -0400 (Mon, 31 Mar 2025) EllapsedTime: 56.7 seconds RetCode: 0 Status: OK