Package: decontam Version: 1.26.0 Command: /home/biocbuild/R/R/bin/R CMD build --keep-empty-dirs --no-resave-data decontam StartedAt: 2025-03-31 22:57:07 -0000 (Mon, 31 Mar 2025) EndedAt: 2025-03-31 22:57:45 -0000 (Mon, 31 Mar 2025) EllapsedTime: 38.0 seconds RetCode: 0 Status: OK PackageFile: decontam_1.26.0.tar.gz PackageFileSize: 538.7 KiB