Package: decontX Version: 1.4.1 Command: rm -rf decontX.buildbin-libdir && mkdir decontX.buildbin-libdir && F:\biocbuild\bbs-3.20-bioc\R\bin\R.exe CMD INSTALL --build --library=decontX.buildbin-libdir decontX_1.4.1.tar.gz StartedAt: 2025-04-01 08:02:29 -0400 (Tue, 01 Apr 2025) EndedAt: 2025-04-01 08:08:22 -0400 (Tue, 01 Apr 2025) EllapsedTime: 352.2 seconds RetCode: 0 Status: OK PackageFile: decontX_1.4.1.zip PackageFileSize: 1.933 MiB