Package: decontX Version: 1.4.1 Command: /Library/Frameworks/R.framework/Resources/bin/R CMD INSTALL decontX StartedAt: 2025-03-31 16:30:08 -0400 (Mon, 31 Mar 2025) EndedAt: 2025-03-31 16:34:45 -0400 (Mon, 31 Mar 2025) EllapsedTime: 276.7 seconds RetCode: 0 Status: OK