Package: decontX Version: 1.4.1 Command: /Library/Frameworks/R.framework/Resources/bin/R CMD build --keep-empty-dirs --no-resave-data decontX StartedAt: 2025-03-31 18:07:49 -0400 (Mon, 31 Mar 2025) EndedAt: 2025-03-31 18:20:02 -0400 (Mon, 31 Mar 2025) EllapsedTime: 733.0 seconds RetCode: 0 Status: OK PackageFile: decontX_1.4.1.tar.gz PackageFileSize: 1.991 MiB