Package: decompTumor2Sig Version: 2.22.0 Command: /home/biocbuild/R/R/bin/R CMD check --install=check:decompTumor2Sig.install-out.txt --library=/home/biocbuild/R/R/site-library --no-vignettes --timings decompTumor2Sig_2.22.0.tar.gz StartedAt: 2025-04-01 05:40:41 -0000 (Tue, 01 Apr 2025) EndedAt: 2025-04-01 05:49:26 -0000 (Tue, 01 Apr 2025) EllapsedTime: 524.5 seconds RetCode: 0 Status: OK CheckDir: decompTumor2Sig.Rcheck Warnings: 0