Package: decompTumor2Sig Version: 2.22.0 Command: /home/biocbuild/R/R/bin/R CMD build --keep-empty-dirs --no-resave-data decompTumor2Sig StartedAt: 2025-03-31 22:56:53 -0000 (Mon, 31 Mar 2025) EndedAt: 2025-03-31 23:02:50 -0000 (Mon, 31 Mar 2025) EllapsedTime: 357.1 seconds RetCode: 0 Status: OK PackageFile: decompTumor2Sig_2.22.0.tar.gz PackageFileSize: 2.456 MiB