Package: decompTumor2Sig Version: 2.22.0 Command: /home/biocbuild/bbs-3.20-bioc/R/bin/R CMD INSTALL decompTumor2Sig StartedAt: 2025-03-31 15:27:44 -0400 (Mon, 31 Mar 2025) EndedAt: 2025-03-31 15:28:25 -0400 (Mon, 31 Mar 2025) EllapsedTime: 40.8 seconds RetCode: 0 Status: OK