Package: decompTumor2Sig Version: 2.22.0 Command: /Library/Frameworks/R.framework/Resources/bin/R CMD INSTALL decompTumor2Sig StartedAt: 2025-03-31 15:38:26 -0400 (Mon, 31 Mar 2025) EndedAt: 2025-03-31 15:39:52 -0400 (Mon, 31 Mar 2025) EllapsedTime: 85.4 seconds RetCode: 0 Status: OK