Package: decompTumor2Sig Version: 2.22.0 Command: rm -rf decompTumor2Sig.buildbin-libdir && mkdir decompTumor2Sig.buildbin-libdir && /Users/biocbuild/BBS/utils/build-universal.sh decompTumor2Sig_2.22.0.tar.gz /Library/Frameworks/R.framework/Resources/bin/R decompTumor2Sig.buildbin-libdir StartedAt: 2025-04-01 11:43:34 -0400 (Tue, 01 Apr 2025) EndedAt: 2025-04-01 11:45:03 -0400 (Tue, 01 Apr 2025) EllapsedTime: 89.4 seconds RetCode: 0 Status: OK PackageFile: decompTumor2Sig_2.22.0.tgz PackageFileSize: 2.761 MiB