Package: decompTumor2Sig Version: 2.22.0 Command: /Library/Frameworks/R.framework/Resources/bin/R CMD build --keep-empty-dirs --no-resave-data decompTumor2Sig StartedAt: 2025-03-31 22:00:03 -0400 (Mon, 31 Mar 2025) EndedAt: 2025-03-31 22:40:03 -0400 (Mon, 31 Mar 2025) EllapsedTime: 2400.0 seconds RetCode: None Status: TIMEOUT PackageFile: None PackageFileSize: NA