Package: debCAM Version: 1.24.0 Command: rm -rf debCAM.buildbin-libdir && mkdir debCAM.buildbin-libdir && F:\biocbuild\bbs-3.20-bioc\R\bin\R.exe CMD INSTALL --build --library=debCAM.buildbin-libdir debCAM_1.24.0.tar.gz StartedAt: 2025-04-01 08:02:00 -0400 (Tue, 01 Apr 2025) EndedAt: 2025-04-01 08:02:26 -0400 (Tue, 01 Apr 2025) EllapsedTime: 26.1 seconds RetCode: 0 Status: OK PackageFile: debCAM_1.24.0.zip PackageFileSize: 2.832 MiB