Package: debCAM Version: 1.24.0 Command: /home/biocbuild/bbs-3.20-bioc/R/bin/R CMD check --install=check:debCAM.install-out.txt --library=/home/biocbuild/bbs-3.20-bioc/R/site-library --timings debCAM_1.24.0.tar.gz StartedAt: 2025-03-31 21:23:10 -0400 (Mon, 31 Mar 2025) EndedAt: 2025-03-31 21:30:52 -0400 (Mon, 31 Mar 2025) EllapsedTime: 461.5 seconds RetCode: 1 Status: ERROR CheckDir: debCAM.Rcheck Warnings: NA