Package: debCAM Version: 1.24.0 Command: rm -rf debCAM.buildbin-libdir && mkdir debCAM.buildbin-libdir && /Users/biocbuild/BBS/utils/build-universal.sh debCAM_1.24.0.tar.gz /Library/Frameworks/R.framework/Resources/bin/R debCAM.buildbin-libdir StartedAt: 2025-03-29 13:39:27 -0400 (Sat, 29 Mar 2025) EndedAt: 2025-03-29 13:39:41 -0400 (Sat, 29 Mar 2025) EllapsedTime: 13.6 seconds RetCode: 0 Status: OK PackageFile: debCAM_1.24.0.tgz PackageFileSize: 3.161 MiB