Package: dearseq Version: 1.18.0 Command: /home/biocbuild/R/R/bin/R CMD build --keep-empty-dirs --no-resave-data dearseq StartedAt: 2025-03-31 22:56:31 -0000 (Mon, 31 Mar 2025) EndedAt: 2025-03-31 22:56:54 -0000 (Mon, 31 Mar 2025) EllapsedTime: 23.0 seconds RetCode: 1 Status: ERROR PackageFile: None PackageFileSize: NA