Package: dearseq Version: 1.18.0 Command: /home/biocbuild/bbs-3.20-bioc/R/bin/R CMD INSTALL dearseq StartedAt: 2025-03-31 15:51:43 -0400 (Mon, 31 Mar 2025) EndedAt: 2025-03-31 15:51:50 -0400 (Mon, 31 Mar 2025) EllapsedTime: 7.8 seconds RetCode: 0 Status: OK