Package: dearseq Version: 1.18.0 Command: /home/biocbuild/bbs-3.20-bioc/R/bin/R CMD build --keep-empty-dirs --no-resave-data --md5 dearseq StartedAt: 2025-03-31 16:55:47 -0400 (Mon, 31 Mar 2025) EndedAt: 2025-03-31 17:00:35 -0400 (Mon, 31 Mar 2025) EllapsedTime: 288.3 seconds RetCode: 0 Status: OK PackageFile: dearseq_1.18.0.tar.gz PackageFileSize: 741.5 KiB