Package: dearseq Version: 1.18.0 Command: /Library/Frameworks/R.framework/Resources/bin/R CMD build --keep-empty-dirs --no-resave-data dearseq StartedAt: 2025-03-31 18:06:45 -0400 (Mon, 31 Mar 2025) EndedAt: 2025-03-31 18:07:22 -0400 (Mon, 31 Mar 2025) EllapsedTime: 36.7 seconds RetCode: 1 Status: ERROR PackageFile: None PackageFileSize: NA