Package: dearseq Version: 1.18.0 Command: /Library/Frameworks/R.framework/Resources/bin/R CMD check --install=check:dearseq.install-out.txt --library=/Library/Frameworks/R.framework/Resources/library --no-vignettes --timings dearseq_1.18.0.tar.gz StartedAt: 2025-04-01 16:35:55 -0400 (Tue, 01 Apr 2025) EndedAt: 2025-04-01 16:37:21 -0400 (Tue, 01 Apr 2025) EllapsedTime: 85.6 seconds RetCode: 0 Status: OK CheckDir: dearseq.Rcheck Warnings: 0