Package: dearseq Version: 1.18.0 Command: /Library/Frameworks/R.framework/Resources/bin/R CMD build --keep-empty-dirs --no-resave-data dearseq StartedAt: 2025-03-31 21:57:06 -0400 (Mon, 31 Mar 2025) EndedAt: 2025-03-31 22:04:48 -0400 (Mon, 31 Mar 2025) EllapsedTime: 462.5 seconds RetCode: 0 Status: OK PackageFile: dearseq_1.18.0.tar.gz PackageFileSize: 765.9 KiB