Package: ddCt Version: 1.62.0 Command: /home/biocbuild/R/R/bin/R CMD INSTALL ddCt StartedAt: 2025-03-31 20:16:50 -0000 (Mon, 31 Mar 2025) EndedAt: 2025-03-31 20:17:18 -0000 (Mon, 31 Mar 2025) EllapsedTime: 27.5 seconds RetCode: 0 Status: OK