Package: dcanr Version: 1.22.0 Command: /home/biocbuild/R/R/bin/R CMD INSTALL dcanr StartedAt: 2025-03-31 20:36:57 -0000 (Mon, 31 Mar 2025) EndedAt: 2025-03-31 20:37:03 -0000 (Mon, 31 Mar 2025) EllapsedTime: 5.5 seconds RetCode: 0 Status: OK