Package: dcanr Version: 1.22.0 Command: /home/biocbuild/R/R/bin/R CMD build --keep-empty-dirs --no-resave-data dcanr StartedAt: 2025-03-31 22:55:23 -0000 (Mon, 31 Mar 2025) EndedAt: 2025-03-31 22:56:33 -0000 (Mon, 31 Mar 2025) EllapsedTime: 70.0 seconds RetCode: 0 Status: OK PackageFile: dcanr_1.22.0.tar.gz PackageFileSize: 1.455 MiB