Package: dcanr Version: 1.22.0 Command: /home/biocbuild/bbs-3.20-bioc/R/bin/R CMD build --keep-empty-dirs --no-resave-data --md5 dcanr StartedAt: 2025-03-31 16:55:32 -0400 (Mon, 31 Mar 2025) EndedAt: 2025-03-31 16:56:19 -0400 (Mon, 31 Mar 2025) EllapsedTime: 47.1 seconds RetCode: 0 Status: OK PackageFile: dcanr_1.22.0.tar.gz PackageFileSize: 1.711 MiB