Package: dcanr Version: 1.22.0 Command: /Library/Frameworks/R.framework/Resources/bin/R CMD check --install=check:dcanr.install-out.txt --library=/Library/Frameworks/R.framework/Resources/library --no-vignettes --timings dcanr_1.22.0.tar.gz StartedAt: 2025-04-01 16:33:26 -0400 (Tue, 01 Apr 2025) EndedAt: 2025-04-01 16:34:32 -0400 (Tue, 01 Apr 2025) EllapsedTime: 66.7 seconds RetCode: 0 Status: OK CheckDir: dcanr.Rcheck Warnings: 0