Package: dcGSA Version: 1.34.0 Command: /home/biocbuild/R/R/bin/R CMD INSTALL dcGSA StartedAt: 2025-03-31 20:25:55 -0000 (Mon, 31 Mar 2025) EndedAt: 2025-03-31 20:26:02 -0000 (Mon, 31 Mar 2025) EllapsedTime: 6.6 seconds RetCode: 0 Status: OK