Package: dcGSA Version: 1.34.0 Command: /home/biocbuild/bbs-3.20-bioc/R/bin/R CMD check --install=check:dcGSA.install-out.txt --library=/home/biocbuild/bbs-3.20-bioc/R/site-library --timings dcGSA_1.34.0.tar.gz StartedAt: 2025-03-31 21:22:02 -0400 (Mon, 31 Mar 2025) EndedAt: 2025-03-31 21:22:39 -0400 (Mon, 31 Mar 2025) EllapsedTime: 37.0 seconds RetCode: 0 Status: WARNINGS CheckDir: dcGSA.Rcheck Warnings: 1