Package: dcGSA Version: 1.34.0 Command: /Library/Frameworks/R.framework/Resources/bin/R CMD check --install=check:dcGSA.install-out.txt --library=/Library/Frameworks/R.framework/Resources/library --no-vignettes --timings dcGSA_1.34.0.tar.gz StartedAt: 2025-04-01 01:42:32 -0400 (Tue, 01 Apr 2025) EndedAt: 2025-04-01 01:44:02 -0400 (Tue, 01 Apr 2025) EllapsedTime: 90.3 seconds RetCode: 0 Status: WARNINGS CheckDir: dcGSA.Rcheck Warnings: 1