Package: dar Version: 1.2.0 Command: /home/biocbuild/R/R/bin/R CMD check --install=check:dar.install-out.txt --library=/home/biocbuild/R/R/site-library --no-vignettes --timings dar_1.2.0.tar.gz StartedAt: 2025-04-01 05:38:40 -0000 (Tue, 01 Apr 2025) EndedAt: 2025-04-01 05:51:59 -0000 (Tue, 01 Apr 2025) EllapsedTime: 798.9 seconds RetCode: 0 Status: OK CheckDir: dar.Rcheck Warnings: 0