Package: dar Version: 1.2.0 Command: /Library/Frameworks/R.framework/Resources/bin/R CMD check --install=check:dar.install-out.txt --library=/Library/Frameworks/R.framework/Resources/library --no-vignettes --timings dar_1.2.0.tar.gz StartedAt: 2025-04-01 01:41:20 -0400 (Tue, 01 Apr 2025) EndedAt: 2025-04-01 02:06:37 -0400 (Tue, 01 Apr 2025) EllapsedTime: 1517.6 seconds RetCode: 0 Status: OK CheckDir: dar.Rcheck Warnings: 0