Package: dagLogo Version: 1.44.0 Command: /home/biocbuild/R/R/bin/R CMD check --install=check:dagLogo.install-out.txt --library=/home/biocbuild/R/R/site-library --no-vignettes --timings dagLogo_1.44.0.tar.gz StartedAt: 2025-04-01 05:36:46 -0000 (Tue, 01 Apr 2025) EndedAt: 2025-04-01 05:44:06 -0000 (Tue, 01 Apr 2025) EllapsedTime: 439.4 seconds RetCode: 0 Status: OK CheckDir: dagLogo.Rcheck Warnings: 0