Package: dagLogo Version: 1.44.0 Command: /Library/Frameworks/R.framework/Resources/bin/R CMD build --keep-empty-dirs --no-resave-data dagLogo StartedAt: 2025-03-31 18:05:06 -0400 (Mon, 31 Mar 2025) EndedAt: 2025-03-31 18:08:49 -0400 (Mon, 31 Mar 2025) EllapsedTime: 223.4 seconds RetCode: 0 Status: OK PackageFile: dagLogo_1.44.0.tar.gz PackageFileSize: 3.112 MiB