Package: dagLogo Version: 1.44.0 Command: rm -rf dagLogo.buildbin-libdir && mkdir dagLogo.buildbin-libdir && /Users/biocbuild/BBS/utils/build-universal.sh dagLogo_1.44.0.tar.gz /Library/Frameworks/R.framework/Resources/bin/R dagLogo.buildbin-libdir StartedAt: 2025-04-01 11:42:53 -0400 (Tue, 01 Apr 2025) EndedAt: 2025-04-01 11:44:30 -0400 (Tue, 01 Apr 2025) EllapsedTime: 96.8 seconds RetCode: 0 Status: OK PackageFile: dagLogo_1.44.0.tgz PackageFileSize: 3.488 MiB