Package: dagLogo Version: 1.44.0 Command: /Library/Frameworks/R.framework/Resources/bin/R CMD check --install=check:dagLogo.install-out.txt --library=/Library/Frameworks/R.framework/Resources/library --no-vignettes --timings dagLogo_1.44.0.tar.gz StartedAt: 2025-04-01 16:25:11 -0400 (Tue, 01 Apr 2025) EndedAt: 2025-04-01 16:32:09 -0400 (Tue, 01 Apr 2025) EllapsedTime: 418.2 seconds RetCode: 0 Status: OK CheckDir: dagLogo.Rcheck Warnings: 0