Package: dada2 Version: 1.34.0 Command: chmod a+r dada2 -R && F:\biocbuild\bbs-3.20-bioc\R\bin\R.exe CMD build --keep-empty-dirs --no-resave-data dada2 StartedAt: 2025-03-31 18:19:06 -0400 (Mon, 31 Mar 2025) EndedAt: 2025-03-31 18:21:57 -0400 (Mon, 31 Mar 2025) EllapsedTime: 171.1 seconds RetCode: 0 Status: OK PackageFile: dada2_1.34.0.tar.gz PackageFileSize: 2.505 MiB