Package: dStruct Version: 1.12.0 Command: /home/biocbuild/R/R/bin/R CMD INSTALL dStruct StartedAt: 2025-03-31 20:18:30 -0000 (Mon, 31 Mar 2025) EndedAt: 2025-03-31 20:18:35 -0000 (Mon, 31 Mar 2025) EllapsedTime: 4.6 seconds RetCode: 0 Status: OK