Package: dStruct Version: 1.12.0 Command: F:\biocbuild\bbs-3.20-bioc\R\bin\R.exe CMD INSTALL dStruct StartedAt: 2025-03-31 15:33:27 -0400 (Mon, 31 Mar 2025) EndedAt: 2025-03-31 15:33:41 -0400 (Mon, 31 Mar 2025) EllapsedTime: 14.6 seconds RetCode: 0 Status: OK