Package: dStruct Version: 1.12.0 Command: /home/biocbuild/bbs-3.20-bioc/R/bin/R CMD INSTALL dStruct StartedAt: 2025-03-31 15:14:05 -0400 (Mon, 31 Mar 2025) EndedAt: 2025-03-31 15:14:08 -0400 (Mon, 31 Mar 2025) EllapsedTime: 3.3 seconds RetCode: 0 Status: OK