Package: cytoviewer Version: 1.6.0 Command: /Library/Frameworks/R.framework/Resources/bin/R CMD INSTALL cytoviewer StartedAt: 2025-03-31 17:14:18 -0400 (Mon, 31 Mar 2025) EndedAt: 2025-03-31 17:15:11 -0400 (Mon, 31 Mar 2025) EllapsedTime: 52.5 seconds RetCode: 0 Status: OK