Package: cytoviewer Version: 1.6.0 Command: /Library/Frameworks/R.framework/Resources/bin/R CMD build --keep-empty-dirs --no-resave-data cytoviewer StartedAt: 2025-03-31 21:51:43 -0400 (Mon, 31 Mar 2025) EndedAt: 2025-03-31 21:53:07 -0400 (Mon, 31 Mar 2025) EllapsedTime: 83.5 seconds RetCode: 0 Status: OK PackageFile: cytoviewer_1.6.0.tar.gz PackageFileSize: 9.26 MiB