Package: cytomapper Version: 1.18.0 Command: /Library/Frameworks/R.framework/Resources/bin/R CMD INSTALL cytomapper StartedAt: 2025-03-31 17:06:16 -0400 (Mon, 31 Mar 2025) EndedAt: 2025-03-31 17:07:16 -0400 (Mon, 31 Mar 2025) EllapsedTime: 59.9 seconds RetCode: 0 Status: OK