Package: cytomapper Version: 1.18.0 Command: /Library/Frameworks/R.framework/Resources/bin/R CMD check --install=check:cytomapper.install-out.txt --library=/Library/Frameworks/R.framework/Resources/library --no-vignettes --timings cytomapper_1.18.0.tar.gz StartedAt: 2025-04-01 16:16:48 -0400 (Tue, 01 Apr 2025) EndedAt: 2025-04-01 16:32:46 -0400 (Tue, 01 Apr 2025) EllapsedTime: 958.3 seconds RetCode: 0 Status: OK CheckDir: cytomapper.Rcheck Warnings: 0