Package: cytofQC Version: 1.6.0 Command: /Library/Frameworks/R.framework/Resources/bin/R CMD check --install=check:cytofQC.install-out.txt --library=/Library/Frameworks/R.framework/Resources/library --no-vignettes --timings cytofQC_1.6.0.tar.gz StartedAt: 2025-04-01 16:13:47 -0400 (Tue, 01 Apr 2025) EndedAt: 2025-04-01 16:20:10 -0400 (Tue, 01 Apr 2025) EllapsedTime: 382.2 seconds RetCode: 0 Status: OK CheckDir: cytofQC.Rcheck Warnings: 0