Package: cytoMEM Version: 1.10.0 Command: /Library/Frameworks/R.framework/Resources/bin/R CMD check --install=check:cytoMEM.install-out.txt --library=/Library/Frameworks/R.framework/Resources/library --no-vignettes --timings cytoMEM_1.10.0.tar.gz StartedAt: 2025-04-01 16:20:10 -0400 (Tue, 01 Apr 2025) EndedAt: 2025-04-01 16:21:19 -0400 (Tue, 01 Apr 2025) EllapsedTime: 69.5 seconds RetCode: 0 Status: OK CheckDir: cytoMEM.Rcheck Warnings: 0