Package: cytoKernel Version: 1.12.0 Command: /Library/Frameworks/R.framework/Resources/bin/R CMD INSTALL cytoKernel StartedAt: 2025-03-31 15:46:51 -0400 (Mon, 31 Mar 2025) EndedAt: 2025-03-31 15:47:56 -0400 (Mon, 31 Mar 2025) EllapsedTime: 64.9 seconds RetCode: 0 Status: OK