Package: cypress Version: 1.2.0 Command: /home/biocbuild/R/R/bin/R CMD INSTALL cypress StartedAt: 2025-03-31 21:01:30 -0000 (Mon, 31 Mar 2025) EndedAt: 2025-03-31 21:02:05 -0000 (Mon, 31 Mar 2025) EllapsedTime: 35.2 seconds RetCode: 0 Status: OK