Package: cypress Version: 1.2.0 Command: /home/biocbuild/R/R/bin/R CMD build --keep-empty-dirs --no-resave-data cypress StartedAt: 2025-03-31 22:51:53 -0000 (Mon, 31 Mar 2025) EndedAt: 2025-03-31 22:57:17 -0000 (Mon, 31 Mar 2025) EllapsedTime: 323.1 seconds RetCode: 0 Status: OK PackageFile: cypress_1.2.0.tar.gz PackageFileSize: 2.146 MiB